BEGIN:VCALENDAR
VERSION:2.0
PRODID:-//wp-events-plugin.com//7.2.3.1//EN
BEGIN:VEVENT
UID:2052@rbnazarene.com
DTSTART:20260324T183000Z
DTEND:20390329T200000Z
DTSTAMP:20260322T235527Z
URL:https://rbnazarene.com/events/faith-irl-young-adult-bible-study/
SUMMARY:Faith IRL Young Adult Bible Study
DESCRIPTION:Faith IRL Young Adult Bible Study\n\nWe will be discussing elem
 ents of new adulthood and keeping the faith through it all.\n\nWe will be 
 in the Chocolate Room in the Fellowship Hall
ATTACH;FMTTYPE=image/jpeg:https://rbnazarene.com/wp-content/uploads/2026/0
 3/Read-your-bible-5-x-7-in.jpg
LOCATION:Fellowship Hall\, 900 Johnson Street\, Red Bluff\, California\, 96
 080\, United States
X-APPLE-STRUCTURED-LOCATION;VALUE=URI;X-ADDRESS=900 Johnson Street\, Red Bl
 uff\, California\, 96080\, United States;X-APPLE-RADIUS=100;X-TITLE=Fellow
 ship Hall:geo:0,0
END:VEVENT
END:VCALENDAR