BEGIN:VCALENDAR
VERSION:2.0
PRODID:-//wp-events-plugin.com//7.2.3.1//EN
BEGIN:VEVENT
UID:71@rbnazarene.com
DTSTART;VALUE=DATE:20291122
DTEND;VALUE=DATE:20291123
DTSTAMP:20241110T191256Z
URL:https://rbnazarene.com/events/happy-birthday-evan-brunnemer-2029-11-22
 /
SUMMARY:Happy Birthday Evan Brunnemer!
DESCRIPTION:Wishing you a wonderful birthday\, and thank you for being a pa
 rt of our church family!
ATTACH;FMTTYPE=image/jpeg:https://rbnazarene.com/wp-content/uploads/2024/1
 1/happy-birthday-1.png
CATEGORIES:Birthdays
END:VEVENT
END:VCALENDAR