BEGIN:VCALENDAR
VERSION:2.0
PRODID:-//wp-events-plugin.com//7.2.3.1//EN
BEGIN:VEVENT
UID:1796@rbnazarene.com
DTSTART:20260228T090000Z
DTEND:20470223T110000Z
DTSTAMP:20260301T043400Z
URL:https://rbnazarene.com/events/mens-bible-study-breakfast/
SUMMARY:Men's Bible Study Breakfast
DESCRIPTION:Join us as brothers in Christ as we study God's Word and fellow
 ship. You can bring something yummy to share!
ATTACH;FMTTYPE=image/jpeg:https://rbnazarene.com/wp-content/uploads/2026/0
 3/Mens-Bible-Study-Breakfast.jpg
LOCATION:Fellowship Hall\, 900 Johnson Street\, Red Bluff\, California\, 96
 080\, United States
X-APPLE-STRUCTURED-LOCATION;VALUE=URI;X-ADDRESS=900 Johnson Street\, Red Bl
 uff\, California\, 96080\, United States;X-APPLE-RADIUS=100;X-TITLE=Fellow
 ship Hall:geo:0,0
END:VEVENT
END:VCALENDAR