BEGIN:VCALENDAR
VERSION:2.0
PRODID:-//wp-events-plugin.com//7.2.3.1//EN
BEGIN:VEVENT
UID:829@rbnazarene.com
DTSTART:20260305T180000Z
DTEND:20440825T193000Z
DTSTAMP:20260301T035336Z
URL:https://rbnazarene.com/events/thursday-night-prayer-meeting/
SUMMARY:Thursday Night Prayer Meeting
DESCRIPTION:Join us as we lift up our prayers together. Matthew 18:20 "For 
 where two or three gather in my name\, there am I with them."
ATTACH;FMTTYPE=image/jpeg:https://rbnazarene.com/wp-content/uploads/2026/0
 3/download.jpg
LOCATION:Church Office\, 900 Johnson Street\, Red Bluff\, California\, 9608
 0\, 
X-APPLE-STRUCTURED-LOCATION;VALUE=URI;X-ADDRESS=900 Johnson Street\, Red Bl
 uff\, California\, 96080\, ;X-APPLE-RADIUS=100;X-TITLE=Church Office:geo:0
 ,0
END:VEVENT
END:VCALENDAR