BEGIN:VCALENDAR
VERSION:2.0
PRODID:-//wp-events-plugin.com//7.2.3.1//EN
BEGIN:VEVENT
UID:102@rbnazarene.com
DTSTART:20260304T180000Z
DTEND:20400125T193000Z
DTSTAMP:20260301T035442Z
URL:https://rbnazarene.com/events/wednesday-night-bible-study/
SUMMARY:Wednesday Night Bible Study
DESCRIPTION:Join us as we dive deeper into the Word together!
ATTACH;FMTTYPE=image/jpeg:https://rbnazarene.com/wp-content/uploads/2025/0
 2/membership-class.jpg
LOCATION:Fellowship Hall\, 900 Johnson Street\, Red Bluff\, California\, 96
 080\, United States
X-APPLE-STRUCTURED-LOCATION;VALUE=URI;X-ADDRESS=900 Johnson Street\, Red Bl
 uff\, California\, 96080\, United States;X-APPLE-RADIUS=100;X-TITLE=Fellow
 ship Hall:geo:0,0
END:VEVENT
END:VCALENDAR